BEGIN:VCALENDAR
VERSION:2.0
PRODID:-//Emozionitaliaonline - ECPv6.15.20//NONSGML v1.0//EN
CALSCALE:GREGORIAN
METHOD:PUBLISH
X-WR-CALNAME:Emozionitaliaonline
X-ORIGINAL-URL:https://emozionitalia-online.it
X-WR-CALDESC:Eventi per Emozionitaliaonline
REFRESH-INTERVAL;VALUE=DURATION:PT1H
X-Robots-Tag:noindex
X-PUBLISHED-TTL:PT1H
BEGIN:VTIMEZONE
TZID:Europe/Rome
BEGIN:DAYLIGHT
TZOFFSETFROM:+0100
TZOFFSETTO:+0200
TZNAME:CEST
DTSTART:20250330T010000
END:DAYLIGHT
BEGIN:STANDARD
TZOFFSETFROM:+0200
TZOFFSETTO:+0100
TZNAME:CET
DTSTART:20251026T010000
END:STANDARD
BEGIN:DAYLIGHT
TZOFFSETFROM:+0100
TZOFFSETTO:+0200
TZNAME:CEST
DTSTART:20260329T010000
END:DAYLIGHT
BEGIN:STANDARD
TZOFFSETFROM:+0200
TZOFFSETTO:+0100
TZNAME:CET
DTSTART:20261025T010000
END:STANDARD
BEGIN:DAYLIGHT
TZOFFSETFROM:+0100
TZOFFSETTO:+0200
TZNAME:CEST
DTSTART:20270328T010000
END:DAYLIGHT
BEGIN:STANDARD
TZOFFSETFROM:+0200
TZOFFSETTO:+0100
TZNAME:CET
DTSTART:20271031T010000
END:STANDARD
END:VTIMEZONE
BEGIN:VEVENT
DTSTART;TZID=Europe/Rome:20260422T060000
DTEND;TZID=Europe/Rome:20260426T220000
DTSTAMP:20260424T111750
CREATED:20260120T183514Z
LAST-MODIFIED:20260129T145906Z
UID:32708-1776837600-1777240800@emozionitalia-online.it
SUMMARY:L’Alsazia e la Strada dei Vini – Strasburgo
DESCRIPTION:
URL:https://emozionitalia-online.it/event/lalsazia-e-la-strada-dei-vini-strasburgo-2026/
CATEGORIES:Viaggi di Gruppo Organizzati in Europa
ATTACH;FMTTYPE=image/png:https://emozionitalia-online.it/wp-content/uploads/2026/01/Alsazia-Copertina.png
END:VEVENT
BEGIN:VEVENT
DTSTART;TZID=Europe/Rome:20260422T060000
DTEND;TZID=Europe/Rome:20260426T220000
DTSTAMP:20260424T111750
CREATED:20260126T172434Z
LAST-MODIFIED:20260126T172434Z
UID:32822-1776837600-1777240800@emozionitalia-online.it
SUMMARY:Grand Tour del Portogallo
DESCRIPTION:
URL:https://emozionitalia-online.it/event/grand-tour-del-portogallo/
ATTACH;FMTTYPE=image/png:https://emozionitalia-online.it/wp-content/uploads/2026/01/ChatGPT-Image-20-gen-2026-18_21_25.png
END:VEVENT
BEGIN:VEVENT
DTSTART;TZID=Europe/Rome:20260422T060000
DTEND;TZID=Europe/Rome:20260429T220000
DTSTAMP:20260424T111750
CREATED:20251230T152506Z
LAST-MODIFIED:20260204T183531Z
UID:32445-1776837600-1777500000@emozionitalia-online.it
SUMMARY:Istanbul - Cappadocia e Efeso
DESCRIPTION:
URL:https://emozionitalia-online.it/event/istanbul-cappadocia-e-efesoaprile2026/
ATTACH;FMTTYPE=image/png:https://emozionitalia-online.it/wp-content/uploads/2025/12/Istanbul-Cappadocia-19-26_03-CAP-Copertina.png
END:VEVENT
BEGIN:VEVENT
DTSTART;TZID=Europe/Rome:20260423T060000
DTEND;TZID=Europe/Rome:20260426T220000
DTSTAMP:20260424T111750
CREATED:20260130T161202Z
LAST-MODIFIED:20260130T161202Z
UID:32867-1776924000-1777240800@emozionitalia-online.it
SUMMARY:Costa croata - Laghi di Plitvice e Isola di Krk
DESCRIPTION:
URL:https://emozionitalia-online.it/event/costa-croata-laghi-di-plitvice-e-isola-di-krk/
CATEGORIES:Viaggi di Gruppo Organizzati in Europa
ATTACH;FMTTYPE=image/jpeg:https://emozionitalia-online.it/wp-content/uploads/2026/01/lake-5408686_1280.jpg
END:VEVENT
BEGIN:VEVENT
DTSTART;VALUE=DATE:20260425
DTEND;VALUE=DATE:20260426
DTSTAMP:20260424T111750
CREATED:20260218T164221Z
LAST-MODIFIED:20260218T164221Z
UID:33269-1777075200-1777161599@emozionitalia-online.it
SUMMARY:Il Gigante d’Europa\, il Giardino d’Italia e i Sapori della Lessinia
DESCRIPTION:
URL:https://emozionitalia-online.it/event/il-gigante-deuropa-il-giardino-ditalia-e-i-sapori-della-lessinia/
CATEGORIES:gita di un giorno
ATTACH;FMTTYPE=image/png:https://emozionitalia-online.it/wp-content/uploads/2026/02/Screenshot-2026-02-18-164739.png
END:VEVENT
BEGIN:VEVENT
DTSTART;VALUE=DATE:20260426
DTEND;VALUE=DATE:20260427
DTSTAMP:20260424T111750
CREATED:20260219T150609Z
LAST-MODIFIED:20260219T150609Z
UID:33290-1777161600-1777247999@emozionitalia-online.it
SUMMARY:La Festa dei Tulipani e la Crociera sul Trasimeno
DESCRIPTION:
URL:https://emozionitalia-online.it/event/la-festa-dei-tulipani-e-la-crociera-sul-trasimeno/
CATEGORIES:gita di un giorno
ATTACH;FMTTYPE=image/png:https://emozionitalia-online.it/wp-content/uploads/2026/02/Screenshot-2026-02-18-180040.png
END:VEVENT
BEGIN:VEVENT
DTSTART;TZID=Europe/Rome:20260427T060000
DTEND;TZID=Europe/Rome:20260505T220000
DTSTAMP:20260424T111750
CREATED:20260123T155813Z
LAST-MODIFIED:20260129T155619Z
UID:32754-1777269600-1778018400@emozionitalia-online.it
SUMMARY:Giordania - Tra Petra e il deserto del Wadi Rum
DESCRIPTION:
URL:https://emozionitalia-online.it/event/giordania-tra-petra-e-il-deserto-del-wadi-rum/
ATTACH;FMTTYPE=image/jpeg:https://emozionitalia-online.it/wp-content/uploads/2026/01/alex-vasey-5_Bu25SV6X8-unsplash-1-scaled.jpg
END:VEVENT
BEGIN:VEVENT
DTSTART;VALUE=DATE:20260501
DTEND;VALUE=DATE:20260502
DTSTAMP:20260424T111750
CREATED:20260227T162725Z
LAST-MODIFIED:20260227T162725Z
UID:33440-1777593600-1777679999@emozionitalia-online.it
SUMMARY:Bellagio e le fioriture più belle del lago di Como
DESCRIPTION:
URL:https://emozionitalia-online.it/event/bellagio-e-le-fioriture-piu-belle-del-lago-di-como/
CATEGORIES:gita di un giorno
ATTACH;FMTTYPE=image/png:https://emozionitalia-online.it/wp-content/uploads/2026/02/Screenshot-2026-02-27-161259-1.png
END:VEVENT
BEGIN:VEVENT
DTSTART;TZID=Europe/Rome:20260501T060000
DTEND;TZID=Europe/Rome:20260503T220000
DTSTAMP:20260424T111750
CREATED:20260312T175038Z
LAST-MODIFIED:20260312T175050Z
UID:33639-1777615200-1777845600@emozionitalia-online.it
SUMMARY:Dolomiti: Ortisei\, Val Pusteria e Bressanone
DESCRIPTION:
URL:https://emozionitalia-online.it/event/dolomiti-ortisei-val-pusteria-e-bressanone/
CATEGORIES:Viaggi di gruppo Organizzati in Italia
ATTACH;FMTTYPE=image/jpeg:https://emozionitalia-online.it/wp-content/uploads/2026/03/hias_schell-landscape-7093127_1280.jpg
END:VEVENT
BEGIN:VEVENT
DTSTART;TZID=Europe/Rome:20260501T060000
DTEND;TZID=Europe/Rome:20260508T220000
DTSTAMP:20260424T111750
CREATED:20260204T141443Z
LAST-MODIFIED:20260204T141846Z
UID:32913-1777615200-1778277600@emozionitalia-online.it
SUMMARY:Capitali europee: Praga - Vienna - Budapest
DESCRIPTION:
URL:https://emozionitalia-online.it/event/capitali-europee-praga-vienna-budapest2026/
CATEGORIES:Viaggi di Gruppo Organizzati in Europa
ATTACH;FMTTYPE=image/jpeg:https://emozionitalia-online.it/wp-content/uploads/2026/02/94613097-58d3-4728-9656-50850305cb70-md.jpg
END:VEVENT
BEGIN:VEVENT
DTSTART;VALUE=DATE:20260502
DTEND;VALUE=DATE:20260503
DTSTAMP:20260424T111750
CREATED:20260326T144328Z
LAST-MODIFIED:20260326T144345Z
UID:33869-1777680000-1777766399@emozionitalia-online.it
SUMMARY:Lugano e il Sentiero degli Ulivi
DESCRIPTION:
URL:https://emozionitalia-online.it/event/lugano-e-il-sentiero-degli-ulivi-02-05/
CATEGORIES:gita di un giorno
ATTACH;FMTTYPE=image/jpeg:https://emozionitalia-online.it/wp-content/uploads/2026/03/antonio-sessa-J0kFxRQvFFk-unsplash-1-1-scaled.jpg
END:VEVENT
BEGIN:VEVENT
DTSTART;TZID=Europe/Rome:20260503T060000
DTEND;TZID=Europe/Rome:20260504T220000
DTSTAMP:20260424T111750
CREATED:20260330T140944Z
LAST-MODIFIED:20260330T140944Z
UID:33897-1777788000-1777932000@emozionitalia-online.it
SUMMARY:Lago Maggiore: Le Isole Borromee e Il Giardino delle Meraviglie di Villa Taranto
DESCRIPTION:
URL:https://emozionitalia-online.it/event/lago-maggiore-le-isole-borromee-e-il-giardino-delle-meraviglie-di-villa-taranto/
CATEGORIES:Viaggi di gruppo Organizzati in Italia
ATTACH;FMTTYPE=image/jpeg:https://emozionitalia-online.it/wp-content/uploads/2026/03/adege-brissago-7210969_1920-1.jpg
END:VEVENT
BEGIN:VEVENT
DTSTART;VALUE=DATE:20260509
DTEND;VALUE=DATE:20260510
DTSTAMP:20260424T111750
CREATED:20260306T143517Z
LAST-MODIFIED:20260306T143517Z
UID:33528-1778284800-1778371199@emozionitalia-online.it
SUMMARY:Lugano e il Sentiero degli Ulivi
DESCRIPTION:
URL:https://emozionitalia-online.it/event/lugano-e-il-sentiero-degli-ulivi/
ATTACH;FMTTYPE=image/jpeg:https://emozionitalia-online.it/wp-content/uploads/2026/03/antonio-sessa-J0kFxRQvFFk-unsplash-1-scaled.jpg
END:VEVENT
BEGIN:VEVENT
DTSTART;VALUE=DATE:20260510
DTEND;VALUE=DATE:20260511
DTSTAMP:20260424T111750
CREATED:20260306T175607Z
LAST-MODIFIED:20260306T180419Z
UID:33547-1778371200-1778457599@emozionitalia-online.it
SUMMARY:Il grand Canyon Italiano e il meraviglioso giardino di Casa Biasi
DESCRIPTION:
URL:https://emozionitalia-online.it/event/il-grand-canyon-italiano-e-il-meraviglioso-giardino-di-casa-biasi/
CATEGORIES:gita di un giorno
ATTACH;FMTTYPE=image/png:https://emozionitalia-online.it/wp-content/uploads/2026/03/Screenshot-2026-03-06-182413.png
END:VEVENT
BEGIN:VEVENT
DTSTART;TZID=Europe/Rome:20260510T060000
DTEND;TZID=Europe/Rome:20260517T220000
DTSTAMP:20260424T111750
CREATED:20260213T141908Z
LAST-MODIFIED:20260213T142231Z
UID:33062-1778392800-1779055200@emozionitalia-online.it
SUMMARY:Uzbekistan\, la terra di Tamerlano
DESCRIPTION:
URL:https://emozionitalia-online.it/event/uzbekistan-la-terra-di-tamerlano2026/
CATEGORIES:Viaggi di gruppo Organizzati nel Mondo
ATTACH;FMTTYPE=image/jpeg:https://emozionitalia-online.it/wp-content/uploads/2026/02/Copia-di-shutterstock_1979665571-scaled.jpg
END:VEVENT
BEGIN:VEVENT
DTSTART;VALUE=DATE:20260513
DTEND;VALUE=DATE:20260514
DTSTAMP:20260424T111750
CREATED:20260317T163608Z
LAST-MODIFIED:20260317T163622Z
UID:33729-1778630400-1778716799@emozionitalia-online.it
SUMMARY:Cracovia in giornata
DESCRIPTION:
URL:https://emozionitalia-online.it/event/cracovia-in-giornata-maggio/
CATEGORIES:gita di un giorno
ATTACH;FMTTYPE=image/png:https://emozionitalia-online.it/wp-content/uploads/2026/03/Screenshot-2026-03-17-171002.png
END:VEVENT
BEGIN:VEVENT
DTSTART;VALUE=DATE:20260516
DTEND;VALUE=DATE:20260517
DTSTAMP:20260424T111750
CREATED:20260312T103902Z
LAST-MODIFIED:20260312T103902Z
UID:33613-1778889600-1778975999@emozionitalia-online.it
SUMMARY:Dal Borgo degli Agrumi alla “Sublime Rosa”
DESCRIPTION:
URL:https://emozionitalia-online.it/event/dal-borgo-degli-agrumi-alla-sublime-rosa/
ATTACH;FMTTYPE=image/jpeg:https://emozionitalia-online.it/wp-content/uploads/2026/03/reinbacher-roses-616013_1920-1.jpg
END:VEVENT
BEGIN:VEVENT
DTSTART;VALUE=DATE:20260516
DTEND;VALUE=DATE:20260517
DTSTAMP:20260424T111750
CREATED:20260224T100113Z
LAST-MODIFIED:20260225T135528Z
UID:33363-1778889600-1778975999@emozionitalia-online.it
SUMMARY:Tra le Saline di Trapani\, Mazara del Vallo e Gibellina
DESCRIPTION:
URL:https://emozionitalia-online.it/event/tra-le-saline-di-trapani-mazzara-del-vallo-e-gibellina/
CATEGORIES:gita di un giorno
ATTACH;FMTTYPE=image/jpeg:https://emozionitalia-online.it/wp-content/uploads/2026/02/WhatsApp-Image-2026-02-20-at-19.08.27.jpeg
END:VEVENT
BEGIN:VEVENT
DTSTART;VALUE=DATE:20260517
DTEND;VALUE=DATE:20260518
DTSTAMP:20260424T111750
CREATED:20260304T161557Z
LAST-MODIFIED:20260304T161557Z
UID:33493-1778976000-1779062399@emozionitalia-online.it
SUMMARY:Viaggio lungo la costa più spettacolare della Sardegna
DESCRIPTION:
URL:https://emozionitalia-online.it/event/viaggio-lungo-la-costa-piu-spettacolare-della-sardegna/
CATEGORIES:gita di un giorno
ATTACH;FMTTYPE=image/png:https://emozionitalia-online.it/wp-content/uploads/2026/03/Screenshot-2026-03-03-182936.png
END:VEVENT
BEGIN:VEVENT
DTSTART;VALUE=DATE:20260523
DTEND;VALUE=DATE:20260524
DTSTAMP:20260424T111750
CREATED:20260312T163150Z
LAST-MODIFIED:20260312T163150Z
UID:33626-1779494400-1779580799@emozionitalia-online.it
SUMMARY:Paese delle Fiabe
DESCRIPTION:
URL:https://emozionitalia-online.it/event/paese-delle-fiabe/
CATEGORIES:gita di un giorno
ATTACH;FMTTYPE=image/png:https://emozionitalia-online.it/wp-content/uploads/2026/03/Screenshot-2026-03-10-174613.png
END:VEVENT
BEGIN:VEVENT
DTSTART;TZID=Europe/Rome:20260523T060000
DTEND;TZID=Europe/Rome:20260527T220000
DTSTAMP:20260424T111750
CREATED:20260223T183044Z
LAST-MODIFIED:20260223T153444Z
UID:33347-1779516000-1779919200@emozionitalia-online.it
SUMMARY:Una Scozia da leggenda
DESCRIPTION:
URL:https://emozionitalia-online.it/event/una-scozia-da-leggenda/
CATEGORIES:Viaggi di Gruppo Organizzati in Europa
ATTACH;FMTTYPE=image/png:https://emozionitalia-online.it/wp-content/uploads/2026/02/Screenshot-2026-02-19-185228.png
END:VEVENT
BEGIN:VEVENT
DTSTART;VALUE=DATE:20260524
DTEND;VALUE=DATE:20260525
DTSTAMP:20260424T111750
CREATED:20260313T174843Z
LAST-MODIFIED:20260313T174843Z
UID:33680-1779580800-1779667199@emozionitalia-online.it
SUMMARY:Il Castello delle Rose e la piccola Venezia
DESCRIPTION:
URL:https://emozionitalia-online.it/event/il-castello-delle-rose-e-la-piccola-venezia/
CATEGORIES:gita di un giorno
ATTACH;FMTTYPE=image/png:https://emozionitalia-online.it/wp-content/uploads/2026/03/Screenshot-2026-03-13-183304.png
END:VEVENT
BEGIN:VEVENT
DTSTART;TZID=Europe/Rome:20260528T080000
DTEND;TZID=Europe/Rome:20260604T170000
DTSTAMP:20260424T111750
CREATED:20260218T143345Z
LAST-MODIFIED:20260218T143345Z
UID:33244-1779955200-1780592400@emozionitalia-online.it
SUMMARY:Transilvania Sulle Orme di Dracula
DESCRIPTION:
URL:https://emozionitalia-online.it/event/transilvania-sulle-orme-di-dracula/
ATTACH;FMTTYPE=image/jpeg:https://emozionitalia-online.it/wp-content/uploads/2026/02/Transilvania-28_05-04_06-Copertina-CAP.jpg
END:VEVENT
BEGIN:VEVENT
DTSTART;VALUE=DATE:20260530
DTEND;VALUE=DATE:20260531
DTSTAMP:20260424T111750
CREATED:20260316T155953Z
LAST-MODIFIED:20260316T155953Z
UID:33710-1780099200-1780185599@emozionitalia-online.it
SUMMARY:Caorle e la via dei Casoni
DESCRIPTION:
URL:https://emozionitalia-online.it/event/caorle-e-la-via-dei-casoni/
CATEGORIES:gita di un giorno
ATTACH;FMTTYPE=image/png:https://emozionitalia-online.it/wp-content/uploads/2026/03/Screenshot-2026-03-16-163411.png
END:VEVENT
BEGIN:VEVENT
DTSTART;TZID=Europe/Rome:20260530T080000
DTEND;TZID=Europe/Rome:20260602T170000
DTSTAMP:20260424T111750
CREATED:20260217T141736Z
LAST-MODIFIED:20260217T141736Z
UID:33188-1780128000-1780419600@emozionitalia-online.it
SUMMARY:Costa croata\, Laghi di Plitvice e Isola di Krk
DESCRIPTION:
URL:https://emozionitalia-online.it/event/costa-croata-laghi-di-plitvice-e-isola-di-krk-2/
ATTACH;FMTTYPE=image/jpeg:https://emozionitalia-online.it/wp-content/uploads/2026/02/Costa-Croata-30_05-02_06-Copertina-CAP-2.jpg
END:VEVENT
BEGIN:VEVENT
DTSTART;VALUE=DATE:20260531
DTEND;VALUE=DATE:20260601
DTSTAMP:20260424T111750
CREATED:20260320T153256Z
LAST-MODIFIED:20260320T153256Z
UID:33777-1780185600-1780271999@emozionitalia-online.it
SUMMARY:I sapori della Val d’Alpone\, Soave e la festa delle ciliegie
DESCRIPTION:
URL:https://emozionitalia-online.it/event/i-sapori-della-val-dalpone-soave-e-la-festa-delle-ciliegie/
CATEGORIES:gita di un giorno
ATTACH;FMTTYPE=image/png:https://emozionitalia-online.it/wp-content/uploads/2026/03/Screenshot-2026-03-19-184216.png
END:VEVENT
BEGIN:VEVENT
DTSTART;TZID=Europe/Rome:20260531T080000
DTEND;TZID=Europe/Rome:20260602T170000
DTSTAMP:20260424T111750
CREATED:20260218T102002Z
LAST-MODIFIED:20260218T102002Z
UID:33222-1780214400-1780419600@emozionitalia-online.it
SUMMARY:Slovenia Magica Tra Grotte e Laghi
DESCRIPTION:
URL:https://emozionitalia-online.it/event/slovenia-magica-tra-grotte-e-laghi/
ATTACH;FMTTYPE=image/jpeg:https://emozionitalia-online.it/wp-content/uploads/2026/02/Slovenia-31_05-02_06-Copertina-CAP.jpg
END:VEVENT
BEGIN:VEVENT
DTSTART;TZID=Europe/Rome:20260601T060000
DTEND;TZID=Europe/Rome:20260602T220000
DTSTAMP:20260424T111750
CREATED:20260212T171541Z
LAST-MODIFIED:20260212T171541Z
UID:33047-1780293600-1780437600@emozionitalia-online.it
SUMMARY:Da Dobbiaco a Lienz sulle due ruote e le Piramidi di Terra
DESCRIPTION:
URL:https://emozionitalia-online.it/event/da-dobbiaco-a-lienz-sulle-due-ruote-e-le-piramidi-di-terra/
CATEGORIES:Viaggi di gruppo Organizzati in Italia
ATTACH;FMTTYPE=image/png:https://emozionitalia-online.it/wp-content/uploads/2026/02/Screenshot-2026-02-12-173432.png
END:VEVENT
BEGIN:VEVENT
DTSTART;VALUE=DATE:20260606
DTEND;VALUE=DATE:20260607
DTSTAMP:20260424T111750
CREATED:20260325T152041Z
LAST-MODIFIED:20260325T152041Z
UID:33817-1780704000-1780790399@emozionitalia-online.it
SUMMARY:Il meraviglioso Lago di Bled
DESCRIPTION:
URL:https://emozionitalia-online.it/event/il-meraviglioso-lago-di-bled/
CATEGORIES:gita di un giorno
ATTACH;FMTTYPE=image/png:https://emozionitalia-online.it/wp-content/uploads/2026/03/Screenshot-2026-03-25-152056.png
END:VEVENT
BEGIN:VEVENT
DTSTART;TZID=Europe/Rome:20260606T080000
DTEND;TZID=Europe/Rome:20260613T170000
DTSTAMP:20260424T111750
CREATED:20260305T132741Z
LAST-MODIFIED:20260305T132741Z
UID:33514-1780732800-1781370000@emozionitalia-online.it
SUMMARY:Soggiorno nel Mare d'Abruzzo
DESCRIPTION:
URL:https://emozionitalia-online.it/event/soggiorno-nel-mare-dabruzzo-2/
ATTACH;FMTTYPE=image/png:https://emozionitalia-online.it/wp-content/uploads/2026/03/ChatGPT-Image-27-feb-2026-03_28_15-1.png
END:VEVENT
END:VCALENDAR